Workbook
Name 日本JAPAN: '２－２'!$A$237:$A$240
Name 日本JAPAN: #REF!

Sheet 入力方法　How to prepare
B1: 令和9年度帰国外国人留学生短期研究制度 申請書類について
C3: 作成・提出書類 | E3: 提出先
B4: 外国人研究者 | C4: 様式 ２－１ | D4: 令和9年度 帰国外国人留学生短期研究制度 外国人研究者申請書 | E4: 外国人研究者→受入研究者→大学事務担当者→JASSO
C5: 様式 ２－２
B6: 受入研究者 | C6: 様式 ３ | D6: 令和9年度 帰国外国人留学生短期研究制度 外国人研究者推薦書 | E6: 受入研究者→大学事務担当者→JASSO
B7: 大学事務担当者 | C7: 様式 １ | D7: 「令和9年度帰国外国人留学生短期研究制度」の募集について(回答） | E7: 大学事務担当者→JASSO
B9: How to prepare application documents for "Follow-up Research Fellowship for Former International Students 2027"
C11: sheets for input | E11: submit to
B12: For Foreign Researcher | C12: Form ２－１ | D12: Application Form for Follow-up Research Fellowship for Former International Students 2027 | E12: Foreign researcher > Research advisor > University coordinator > JASSO
C13: Form ２－２
B14: For Research Advisor | C14: Form ３ | D14: Letter of Recommendation for Follow-up Research Fellowship for Former International Students for Fiscal 2027 | E14: Research advisor > University coordinator > JASSO
B15: For University coordinator | C15: Form １ | D15: Concerning Application to the "Follow-up Research Fellowship for Former International Students for Fiscal 2027(Response) | E15: University coordinator >JASSO
B17: このファイルは７つのシートで構成されています。各シートを指示に従い入力し、JASSO用シートに反映されているかをご確認ください。
B18: This file is consisted of 7 sheets. Please input each sheet according to instructions and confirm whether the sheet for JASSO is entered.
B19: 不備のないように最後に記入上の注意点(別紙)を再度確認してください。
B20: Please check the notes on how you fill in.

Sheet １
AD1: 様式1
W2: 文書番号第○○号
W3: 令和8年 月 日
A5: 独立行政法人 日本学生支援機構
J6: 理事長 殿
R7: 大学名
R9: 学長名
A11: 「令和9年度帰国外国人留学生短期研究制度」
K12: の募集について(回答）
B14: 令和8年9月28日付け学支国奨第167号で通知のありました標記の件について、申請書類に虚偽のないことを確認し、下記の者を推薦いたします。 なお、受入研究者に係る兼業許可の手続きが必要な場合には、学内において適切に処理いたします。
A18: 記
C20: 外国人研究者氏名 (パスポートと同一、同順のアルファベットで記載） | W20: 受入研究者氏名
B21: 1
B22: 2
B23: 3
B24: 4
B25: 5
B26: 6
B27: 7
B28: 8
B29: 9
B30: 10
Q31: 被推薦者数 | AD31: 名 | AF31: =IF(C21<>"",IF(ISNUMBER(MATCH('２－１'!$A$8,$C$21:$C$30,0)),"","注意：様式2-1の外国人研究者氏名が一覧内の氏名と同じかを確認してください"),"")
B33: 受入れ大学事務担当者連絡先
B34: 学校番号 | G34: 101002 | K34: 大学名 | O34: =IF($G$34="","自動入力",VLOOKUP($G$34,学校番号!A:B,2,0)) -> 帯広畜産大学
B35: 大学名（英語）
B36: 担当部署名 | R36: 電話
B37: 担当者氏名 | R37: E-mail
B38: 住所 | G38: 〒

Sheet ２－１
A1: 学校番号 | G1: 受入大学
A2: =IF('３'!$B$6="","自動入力 Automatic imput",'３'!$B$6) -> 101002 | G2: =IF('３'!$B$6="","自動入力 Automatic input",'３'!$F$6) -> 帯広畜産大学 | V2: 外国人研究者用 For Former International Student | AD2: 様式2-1 Form 2-1
A4: 令和９年度 帰国外国人留学生短期研究制度 外国人研究者申請書
A5: Application Form for Follow-up Research Fellowship for Former International Students
A7: 1 | B7: 氏名（パスポートと同一、同順であること）/ Name (The same spelling as your passport) 申請後は変更不可(Can not be changed after submission)
A9: 2 | B9: 国籍/ Nationality | Q9: 3 | R9: E-mail (1つであること Write only one address) | AC9: 4 | AD9: 性別/ Sex
A11: 5 | B11: 所属機関の種別/ Type of affiliation | Q11: 6 | R11: 設立主体/ Founding body of your affiliation
A13: 7 | B13: 所属機関/ Name of affiliation | W13: 8 | X13: 職名/ Position (One main title)
A15: 9 | B15: 本制度に採用された場合、所属団体からの渡日許可を取得できる/ If you are selected as a recipient of this fellowship, will your affiliation allow you to travel to Japan?
A16: 10 | B16: 生年月日/ Date of Birth (yyyy/mm/dd) | Q16: 11 | R16: 年齢 / Age | V16: （2027年4月1日現在 / As of April 1, 2027）
Q17: =IF(A17="","自動入力 Automatic input",DATEDIF(A17,"2027/4/1","y")) -> 自動入力 Automatic input
A18: 12 | B18: 帰国年月/ Month Returned to Home Country (yyyy/mm) | Q18: 13 | R18: 帰国後年数/ Years since returning to Home Country
Q19: =IF(A19="","自動入力 Automatic input",DATEDIF(A19,"2027/4/1","y")) -> 自動入力 Automatic input
A20: 14-1 | C20: 帰国後1年以上経過しているか（連続して90日以上自国を離れた期間は除く） /Has it been more than one year since you returned to home country (excluding the period when you have left your home country for more than 90 consecutive days)?
A21: 14-2 90日以上自国を離れた理由 / Reason for leaving your home country for more than 90 days ※14-1が「いいえ/No」の場合のみ14-2を記入/ When you answer item 14-1 "No", enter the reason.
A23: 研究期間/Period of Research | R23: =IF(AC25="","",IF(AND(AC25<=90,AC25>=60),"","※60日以上90日以内/ 60-90 consecutive days")) -> ※60日以上90日以内/ 60-90 consecutive days
A24: 15 | B24: 開始予定年月日/ From (yyyy/mm/dd) | M24: ～ | P24: 16 | Q24: 終了予定年月日/ To (yyyy/mm/dd) | AA24: 17 | AB24: 滞在日数/ Total Days
AA25: 計 | AC25: =IF(P25="","自動入力",P25-A25+1) -> 自動入力 | AF25: 日
AA26: Total | AF26: Dａｙｓ
A27: （2027年7月1日から2028年3月20日までの60日以上90日以内）（60-90 days between July 1, 2027 and March 20, 2028）
A28: 空路/ Air Route （後日変更不可/Unmodifiable）
A29: 18 | B29: 外国人研究者が所属する機関の最寄り空港/ Airport closest to the institute to which the former international student belongs ※略称や愛称ではなく、正式名称で入力 / Fill in the form with an official name, NOT an abbreviation or nickname. | P29: ～ | R29: 19 | S29: 日本の受入れ大学の最寄空港/ Airport closest to the japanese host university ※略称や愛称ではなく、正式名称で入力 / Fill in the form with an official name, NOT an abbreviation or nickname.
A186: アゼルバイジャン Azerbaijan
A187: アフガニスタン Afghanistan
A188: アルジェリア Algeria
A189: アルゼンチン Argentine
A190: アルバニア Albania
A191: アルメニア Armenia
A192: アンゴラ Angola
A193: イエメン Yemen
A194: イラク Iraq
A195: イラン Iran
A196: インド India
A197: インドネシア Indonesia
... A327: ワリス・フツナ Wallis and Futuna Islands

Sheet ２－２
F3: =IF('２－１'!AD1="","",'２－１'!AD1) | Z3: 外国人研究者用 For Former International Student | AJ3: 様式2-2 Form 2-2
A7: 学校番号 | D7: 受入大学名 | O7: 受入大学名（英語名称） | AB7: 氏名（アルファベット）/ Name in Alphabet
A8: =IF('３'!$B$6="","自動入力",'３'!$B$6) -> 101002 | D8: =IF('３'!$B$6="","自動入力 Automatic input",'３'!$F$6) -> 帯広畜産大学 | O8: =IF('１'!$G$35="","自動入力 Automatic input",'１'!$G$35) -> 自動入力 Automatic input | AB8: =IF('２－１'!$A$8="","自動入力 Automatic input",'２－１'!$A$8) -> 自動入力 Automatic input
A9: 学歴（大学院以上）/ Educational Background (From Graduate School Level above)
A10: 20 期間（年/月） | D10: 21 国/ | G10: 22 国名/ | K10: 23 大学名、研究所等名/ | Q10: 24 研究科、部署名等/ | W10: 25 課程/ | AA10: 26 取得学位/ | AF10: 27 留学時の身分/ 学習奨励費の有無
A11: Period (Y/M～Y/M) | D11: Country | G11: Country Name | K11: University, Research Institute,etc. | Q11: Graduate course, Department name,etc. | W11: Course | AA11: Degree Acquired | AF11: Student Status / History of receipt of Monbukagakusho Honors Scholarship*
B12: ／
A13: ～
B14: ／
B15: ／
A16: ～
B17: ／
B18: ／
A19: ～
B20: ／
B21: ／
A22: ～
B23: ／
B24: ／
A25: ～
B26: ／
A27: ＊文部科学省外国人留学生学習奨励費：日本学生支援機構(JASSO）が実施する私費外国人留学生を対象とする奨学金
A28: ＊Monbukagakusho Honors Scholarship for Privately-Financed International Students : A scholarship for privately financed international students implemented by the Japan Student Services Organization(JASSO) （https://www.jasso.go.jp/ryugaku/scholarship_j/shoreihi/index.html）
A29: 学位を取得した国 / Degree conferred at
A30: 28 修士号 | L30: 29 博士号 | W30: 30 単位取得満期退学
A31: Master's degree | L31: Doctor’s degree | W31: Coursework completed without degree
A33: 31 研究分野/ Research Field
A35: 32 研究課題/ Research Topic
A37: 33-1 研究の具体的な内容（日本語では700文字以上800文字以内）/ Outline of Research (At least 300 words but no more than 400 words in English)
A41: 33-2 滞在期間における交流計画（訪問機関、我が国の研究者を対象とする講演・討議、若手研究者との交流等）（日本語では100文字以上200文字以内） / Visits to Institutions Other than the Host University, Lectures and Discussions Aimed at Japanese Researchers, and Interchange with Young Researchers (At least 50 words but no more than 100 words in English)
A237: 国費/Japanese government scholarship student
A238: 自国政府派遣/Self-government scholarship student
A239: 私費(学習奨励費あり)/Privately-financed student with Monbukagakusho Honors Scholarship
A240: 私費(学習奨励費なし)/Privately-financed student without Monbukagakusho Honors Scholarship
A242: 1982 | B242: 1 | D242: January | G242: January | K242: January
A243: 1983 | B243: 2 | D243: February | G243: February | K243: February
A244: 1984 | B244: 3 | D244: March | G244: March | K244: March
A245: 1985 | B245: 4 | D245: April | G245: April | K245: April
A246: 1986 | B246: 5 | D246: May | G246: May | K246: May
A247: 1987 | B247: 6 | D247: June | G247: June | K247: June
A248: 1988 | B248: 7 | D248: July | G248: July | K248: July
A249: 1989 | B249: 8 | D249: August | G249: August | K249: August
A250: 1990 | B250: 9 | D250: September | G250: September | K250: September
A251: 1991 | B251: 10 | D251: October | G251: October | K251: October
A252: 1992 | B252: 11 | D252: November | G252: November | K252: November
A253: 1993 | B253: 12 | D253: December | G253: December | K253: December
A254: 1994
A255: 1995
A256: 1996
A257: 1997
A258: 1998
A259: 1999
A260: 2000
A261: 2001
A262: 2002
A263: 2003
A264: 2004
A265: 2005
... A286: 2026

Sheet ３
U2: 受入大学用 *日本語でご記入ください。 For Host Japanese University | AF2: 様式3 Form 3
A4: 令和９年度 帰国外国人留学生短期研究制度 外国人研究者推薦書
A5: 事務担当者 | B5: 1-1 学校番号 | F5: 1-2 学校名 | O5: 2 担当部署名 | AA5: 3 事務担当者氏名
B6: 101002 | F6: =IF($B$6="","自動入力",VLOOKUP($B$6,学校番号!A:B,2,0)) -> 帯広畜産大学 | O6: 国際・地域連携課
B7: 〒 | F7: 4 住所（都道府県から記入してください）
B8: 080-8555 | F8: 北海道帯広市稲田町西２線１１番地
B9: 連絡先 | D9: 5 電話 | F9: 0155-49-5232 | L9: 6 E-mail | O9: kokusai@obihiro.ac.jp | AC9: 7 外為法確認
A10: 受入研究者 | B10: 8 氏名 | D10: ふりがな | Q10: 9 性別 | U10: 10 生年月日(yyyy/mm/dd) | AD10: 11 年齢(2027年4月1日現在)
D11: 漢字 | AD11: =IF(U11="","自動入力",DATEDIF(U11,"2027/4/1","y")) -> 自動入力
B12: 12 所属学部/研究科 （○○学部/研究科と入力） | Q12: 13 職名
B14: 連絡先 | D14: 14 電話 | Q14: 15 E-mail
B15: 16 外国人研究者との関係
A17: 外国人研究者 | B17: 17 氏名 （アルファベット) | R17: 18 氏名 （カタカナ）
B18: =IF('２－１'!$A$8="","自動入力",'２－１'!$A$8) -> 自動入力
B19: 19 国籍 | Z19: 20 性別
B20: =IF('２－１'!$A$10="","自動入力",'２－１'!$A$10) -> 自動入力 | Z20: =IF('２－１'!$AC$10="","自動入力",'２－１'!$AC$10) -> 自動入力
B22: 21 所属機関 ※和訳すること | R22: 22 職名 ※和訳すること (代表的な１つの職名)
B24: 23 所属機関の種別 | R24: 24 設立主体 | X24: 25 所属団体からの渡日許可を取得できる
B25: =IF('２－１'!A12="","自動入力",'２－１'!A12) -> 自動入力 | R25: =IF('２－１'!Q12="","自動入力",'２－１'!Q12) -> 自動入力 | X25: =IF('２－１'!AA15="","自動入力",'２－１'!AA15) -> 自動入力
A26: 短期研究概要 | B26: 26 受入れ研究科名 （○○研究科と入力）
B29: 研究期間 （2027年7月1日から2028年3月20日までの60日以上90日以内）
B30: 27 | C30: =IF('２－１'!A25="","自動入力",'２－１'!A25) -> 自動入力 | J30: ～ | L30: 28 | M30: =IF('２－１'!P25="","自動入力",'２－１'!P25) -> 自動入力 | AA30: 29 | AB30: 計 | AC30: =IF('２－１'!AC25="","自動入力",'２－１'!AC25) -> 自動入力 | AG30: 日
B31: 留学生交流事業の一環としての活動 | AJ31: 活動がない場合も有無のプルダウンに「無」を必ず記入してください。
B32: 30 受入れ大学以外の訪問機関数 | H32: 31 機関名
B33: 項目 | E33: 有無 | G33: 目的、具体的な活動内容及び期待される効果（活動「有」の場合は必ず記入すること）
B34: 32 我が国の研究者等との討議・意見交換
AJ35: 留学生交流事業の一環として行うことを踏まえ、受入れ大学のみならず、他の機関を訪問するなどして、幅広く我が国の研究者との討議・意見交換・講演等の活動を行うものであること。また、若手研究者との交流の促進等教育的側面にも配慮したものであること。
B36: 33 我が国の研究者等への講演
B38: 34 若手研究者との教育的側面に配慮した交流
B40: 35 研究領域 | N40: 36 研究分野 （例：国文学、国際法学、育種学、機器工学、呼吸器内科学等）
AJ41: 35、36は様式2-2と同じ内容か確認してください。
B42: 37 研究課題（日本語100文字以内）
B44: 38-1 短期研究制度によって期待される帰国留学生の出身国にもたらす影響 （日本語200文字以内）
AJ45: 38-1は開発途上国・地域等の教育、学術研究及び行政の発展に寄与するものであることを踏まえ、出来るだけ具体的に記載してください。
B46: 38-2 短期研究制度によって期待される研究の推進（国際共著論文等）（日本語200文字以内）
AJ47: 38-2は共著論文の作成など国際共同研究につながるものであることを踏まえ、出来るだけ具体的に記載してください。
B48: 39 外国人研究者に対する日本留学を終了・帰国後から本事業申請時点までの指導状況 （日本語200文字以内）
AJ49: 39は外国人研究者と受入研究者との事前交渉の経緯などを明らかにし、帰国後から本事業の申請時点までの指導状況を具体的に記載してください。
B50: 40 短期研究の必要性 （日本語200文字以内）
AJ51: 40は外国人研究者と受入研究者との事前交渉の経緯などを明らかにし、短期研究の必要性を具体的に記載してください。
B52: 41 研究計画の概要 (日本語400文字以内)
AJ53: 41は具体的な研究内容を含んだ、日本滞在中の行動計画を記載してください。
A55: 申請書に記載された個人情報は本事業のために利用するものとし、その他の目的には利用しません。
A252: アジア ASIA
A253: 中南米 CENTRAL AND SOUTH AMERICA
A254: アフリカ AFRICA
A255: 中東 MIDDLE EAST
A256: オセアニア OCEANIA
A257: ヨーロッパ EUROPE
A259: アゼルバイジャン Azerbaijan
A260: アフガニスタン Afghanistan
A261: アルジェリア Algeria
A262: アルゼンチン Argentine
A263: アルバニア Albania
... A406: ワリス・フツナ Wallis and Futuna Islands

Sheet JASSO use only 入力不可
C1: JASSO事務局用/JASSO use only 自動入力 Automatic input
C2: Note ; Those personal data appeared below are transferred from front pages automatically. Therefore, please do not make any change, input, deletion on them.
A4: 様式１ | B4: 様式2-1 | U4: 様式2-2 | AC4: 様式３ | BQ4: 様式１
C5: 1 | D5: 2 | E5: 3 | F5: 6 | G5: 7 | H5: 8 | I5: 9 | J5: 10 | K5: 11 | L5: 12 | M5: 13 | N5: 14-1 | O5: 14-2 | P5: 15 | Q5: 16 | R5: 17 | S5: 18 | T5: 19 | U5: 27-1 | V5: 27-2 | W5: 27-3 | X5: 27-4 | Y5: 27-5 | Z5: 28 | AA5: 29 | AB5: 30 | AC5: 1 | AD5: 2 | AE5: 3 | AF5: 〒 | AG5: 4 | AH5: 5 | AI5: 6 | AJ5: 7 | AK5: 8 | AL5: 9 | AM5: 10 | AN5: 11 | AO5: 12 | AP5: 13 | AQ5: 14 | AR5: 15 | AS5: 16 | AT5: 17 | AU5: 18 | AV5: 19 | AW5: 20 | AX5: 21 | AY5: 22 | AZ5: 23 | BA5: 24 | BB5: 25 | BC5: 26 | BD5: 27 | BE5: 28 | BF5: 29 | BG5: 30 | BH5: 31 | BI5: 32 | BJ5: 32-2 | BK5: 33 | BL5: 33-2 | BM5: 34 | BN5: 34-2 | BO5: 35 | BP5: 36
A6: 大学内の順番 | B6: 大学番号 | C6: 氏名 | D6: 国籍 | E6: E-mail | F6: 設立主体 | G6: 所属機関 | H6: 職名 | I6: 所属団体からの許可 | J6: 生年月日 | K6: 年齢 （2027年 4月1日 現在） | L6: 帰国年月 | M6: 帰国後年数 | N6: 帰国後1年以上経過しているか | O6: 理由 | P6: 開始予定 年月日 | Q6: 終了予定 年月日 | R6: 滞在日数 | S6: 自国の空港 | T6: 日本の空港 | U6: 学習奨励費受給歴１ | V6: 学習奨励費受給歴２ | W6: 学習奨励費受給歴３ | X6: 学習奨励費受給歴４ | Y6: 学習奨励費受給歴５ | Z6: 学位を取得した国 修士号 | AA6: 学位を取得した国 博士号 | AB6: 学位を取得した国 単位取得満期退学 | AC6: 大学名 | AD6: 担当部署名 | AE6: 事務担当者氏名 | AG6: 住所 | AH6: 連絡先（電話） | AI6: 連絡先（E-mail） | AJ6: 外為法確認 | AK6: 受入研究者氏名 | AL6: 性別 プルダウンから選択 | AM6: 生年月日 yyyy/mm/dd | AN6: 年齢 （2027年4月1日現在） | AO6: 所属学部/研究科 （○○学部/○○研究科と入力してください。） | AP6: 職名 | AQ6: 連絡先（電話） | AR6: 連絡先（E-mail） | AS6: 外国人研究者との関係 | AT6: 外国人研究者 氏名 （アルファベット） | AU6: 外国人研究者 氏名 （カタカナ） | AV6: 国・地域名 プルダウンから選択 | AW6: 性別 プルダウンから選択 | AX6: 所属機関 ※和訳すること | AY6: 職名 ※和訳すること | AZ6: 所属機関の種別 | BA6: 設立主体 | BB6: 許可 | BC6: 受入れ研究科名 （○○研究科と入力してください。） | BD6: 開始日 | BE6: 終了日 | BF6: 日数 | BG6: 受入れ大学以外に訪問する機関数 （訪問する機関がない場合は、0と記載してください。） | BH6: 訪問機関名 | BI6: 討議・意見交換 | BJ6: 討議等の内容 | BK6: 研究者等への講演 | BL6: 講演等の内容 | BM6: 若手との交流 | BN6: 交流等の内容 | BO6: 研究領域 プルダウンから選択 | BP6: 研究分野 （例：国文学、国際法学、育種学、機器工学、呼吸器内科学等） | BQ6: 学校番号 | BR6: 大学名 | BS6: 大学名(英語) | BT6: 担当部署名 | BU6: 担当者氏名 | BV6: 〒 | BW6: 住所 | BX6: 電話 | BY6: E-mail
A7: =MATCH(C7,'１'!$C$21:$C$30,0) -> #N/A | B7: =IF('２－１'!A2="","",'２－１'!A2) -> 101002 | C7: =IF('２－１'!A8="","",'２－１'!A8) | D7: =IF('２－１'!$A$10="","",'２－１'!$A$10) | E7: =IF('２－１'!Q10="","",'２－１'!Q10) | F7: =IF('２－１'!Q12="","",'２－１'!Q12) | G7: =IF('２－１'!A14="","",'２－１'!A14) | H7: =IF('２－１'!W14="","",'２－１'!W14) | I7: =IF('２－１'!AA15="","",'２－１'!AA15) | J7: =IF('２－１'!A17="","",'２－１'!A17) | K7: =IF('２－１'!Q17="","",'２－１'!Q17) -> 自動入力 Automatic input | L7: =IF('２－１'!A19="","",'２－１'!A19) | M7: =IF('２－１'!Q19="","",'２－１'!Q19) -> 自動入力 Automatic input | N7: =IF('２－１'!AA20="","",'２－１'!AA20) | O7: =IF('２－１'!A22="","",'２－１'!A22) | P7: =IF('２－１'!A25="","",'２－１'!A25) | Q7: =IF('２－１'!P25="","",'２－１'!P25) | R7: =IF('２－１'!AC25="","",'２－１'!AC25) -> 自動入力 | S7: =IF('２－１'!A30="","",'２－１'!A30) | T7: =IF('２－１'!R30="","",'２－１'!R30) | U7: =IF('２－２'!$AF12="","",'２－２'!$AF12) | V7: =IF('２－２'!$AF15="","",'２－２'!$AF15) | W7: =IF('２－２'!$AF18="","",'２－２'!$AF18) | X7: =IF('２－２'!$AF21="","",'２－２'!$AF21) | Y7: =IF('２－２'!$AF24="","",'２－２'!$AF24) | Z7: =IF('２－２'!G30="","",'２－２'!G30) | AA7: =IF('２－２'!R30="","",'２－２'!R30) | AB7: =IF('２－２'!AG30="","",'２－２'!AG30) | AC7: =IF('３'!F6="","",'３'!F6) -> 帯広畜産大学 | AD7: =IF('３'!O6="","",'３'!O6) -> 国際・地域連携課 | AE7: =IF('３'!AA6="","",'３'!AA6) | AF7: =IF('３'!B8="","",'３'!B8) -> 080-8555 | AG7: =IF('３'!F8="","",'３'!F8) -> 北海道帯広市稲田町西２線１１番地 | AH7: =IF('３'!F9="","",'３'!F9) -> 0155-49-5232 | AI7: =IF('３'!O9="","",'３'!O9) -> kokusai@obihiro.ac.jp | AJ7: =IF('３'!AG9="","",'３'!AG9) | AK7: =IF('３'!F11="","",'３'!F11) | AL7: =IF('３'!Q11="","",'３'!Q11) | AM7: =IF('３'!U11="","",'３'!U11) | AN7: =IF('３'!AD11="","",'３'!AD11) -> 自動入力 | AO7: =IF('３'!B13="","",'３'!B13) | AP7: =IF('３'!Q13="","",'３'!Q13) | AQ7: =IF('３'!F14="","",'３'!F14) | AR7: =IF('３'!T14="","",'３'!T14) | AS7: =IF('３'!B16="","",'３'!B16) | AT7: =IF('３'!B18="","",'３'!B18) -> 自動入力 | AU7: =IF('３'!R18="","",'３'!R18) | AV7: =IF('３'!B20="","",'３'!B20) -> 自動入力 | AW7: =IF('３'!Z20="","",'３'!Z20) -> 自動入力 | AX7: =IF('３'!B23="","",'３'!B23) | AY7: =IF('３'!R23="","",'３'!R23) | AZ7: =IF('３'!B25="","",'３'!B25) -> 自動入力 | BA7: =IF('３'!R25="","",'３'!R25) -> 自動入力 | BB7: =IF('３'!X25="","",'３'!X25) -> 自動入力 | BC7: =IF('３'!B27="","",'３'!B27) | BD7: =IF('３'!C30="","",'３'!C30) -> 自動入力 | BE7: =IF('３'!M30="","",'３'!M30) -> 自動入力 | BF7: =IF('３'!AC30="","",'３'!AC30) -> 自動入力 | BG7: =IF('３'!E32="","",'３'!E32) | BH7: =IF('３'!K32="","",'３'!K32) | BI7: =IF('３'!E34="","",'３'!E34) | BJ7: =IF('３'!G34="","",'３'!G34) | BK7: =IF('３'!E36="","",'３'!E36) | BL7: =IF('３'!G36="","",'３'!G36) | BM7: =IF('３'!E38="","",'３'!E38) | BN7: =IF('３'!G38="","",'３'!G38) | BO7: =IF('３'!B41="","",'３'!B41) | BP7: =IF('３'!N41="","",'３'!N41) | BQ7: ='１'!G34 -> 101002 | BR7: ='１'!O34 -> 帯広畜産大学 | BS7: ='１'!G35 -> 0 | BT7: ='１'!G36 -> 0 | BU7: ='１'!G37 -> 0 | BV7: ='１'!H38 -> 0 | BW7: ='１'!K38 -> 0 | BX7: ='１'!U36 -> 0 | BY7: ='１'!U37 -> 0
T8: =IF(R7="","",IF(AND(R7<=90,R7>=60),"","※60日以上90日以内/ 60-90 consecutive days")) -> ※60日以上90日以内/ 60-90 consecutive days
M9: 43555
M12: 帰国後1年以上

Sheet 学校番号
A1: 学校番号 | B1: 大学名
A2: 101001 | B2: 小樽商科大学
A3: 101002 | B3: 帯広畜産大学
A4: 101003 | B4: 北海道大学
A5: 101004 | B5: 北海道教育大学
A6: 101005 | B6: 室蘭工業大学
A7: 101006 | B7: 北見工業大学
A8: 101007 | B8: 旭川医科大学
A9: 102001 | B9: 弘前大学
A10: 102002 | B10: 岩手大学
A11: 102003 | B11: 東北大学
A12: 102004 | B12: 秋田大学
A13: 102005 | B13: 山形大学
... A803: 309062 | B803: 福岡国際医療福祉大学
